BEGIN:VCALENDAR
VERSION:2.0
PRODID:-//Studio West Dance Center - ECPv6.15.17.1//NONSGML v1.0//EN
CALSCALE:GREGORIAN
METHOD:PUBLISH
X-WR-CALNAME:Studio West Dance Center
X-ORIGINAL-URL:https://swdcfc.com
X-WR-CALDESC:Events for Studio West Dance Center
REFRESH-INTERVAL;VALUE=DURATION:PT1H
X-Robots-Tag:noindex
X-PUBLISHED-TTL:PT1H
BEGIN:VTIMEZONE
TZID:America/Denver
BEGIN:DAYLIGHT
TZOFFSETFROM:-0700
TZOFFSETTO:-0600
TZNAME:MDT
DTSTART:20250309T090000
END:DAYLIGHT
BEGIN:STANDARD
TZOFFSETFROM:-0600
TZOFFSETTO:-0700
TZNAME:MST
DTSTART:20251102T080000
END:STANDARD
BEGIN:DAYLIGHT
TZOFFSETFROM:-0700
TZOFFSETTO:-0600
TZNAME:MDT
DTSTART:20260308T090000
END:DAYLIGHT
BEGIN:STANDARD
TZOFFSETFROM:-0600
TZOFFSETTO:-0700
TZNAME:MST
DTSTART:20261101T080000
END:STANDARD
BEGIN:DAYLIGHT
TZOFFSETFROM:-0700
TZOFFSETTO:-0600
TZNAME:MDT
DTSTART:20270314T090000
END:DAYLIGHT
BEGIN:STANDARD
TZOFFSETFROM:-0600
TZOFFSETTO:-0700
TZNAME:MST
DTSTART:20271107T080000
END:STANDARD
END:VTIMEZONE
BEGIN:VEVENT
DTSTART;TZID=America/Denver:20260817T160000
DTEND;TZID=America/Denver:20260817T210000
DTSTAMP:20260419T164821
CREATED:20260225T020333Z
LAST-MODIFIED:20260225T021825Z
UID:7284-1786982400-1787000400@swdcfc.com
SUMMARY:2026-27 Dance Season Begins!
DESCRIPTION:SWDC’s 2026-27 dance season runs August 17th – June 5th \nDetails are avaiable under the “Dance Program” tab
URL:https://swdcfc.com/event/2026-27-dance-season-begins/
LOCATION:SWDC\, 1640 Riverside Ave\, Unit 300\, Fort Collins\, CO\, 80524\, United States
CATEGORIES:Important Dates
ORGANIZER;CN="Studio West Dance Center":MAILTO:frontdesk@swdcfc.com
END:VEVENT
END:VCALENDAR